BEGIN:VCALENDAR
VERSION:2.0
METHOD:PUBLISH
CALSCALE:GREGORIAN
PRODID:-//Helios Calendar//EN
X-FROM-URL:https://www.aamu.edu/calendar/index.php?eID=1681
X-WR-RELCALID:AAMU Calendar CETL Presents: Spring 2020 Monday Morning Mentor Series  20200316T090000
X-WR-TIMEZONE:Europe/London
X-WR-CALNAME:AAMU Calendar
BEGIN:VEVENT
URL;VALUE=URI:https://www.aamu.edu/calendar/index.php?eID=1681
DTSTART:20200316T090000
DTEND:20200316T092000
SUMMARY:CETL Presents: Spring 2020 Monday Morning Mentor Series 
DESCRIPTION:View on your own professional Development for Faculty & Staff Each week a new program becomes available Monday mornings. The program is available for on-demand viewing for one full week. *... For complete event details please visit:  https://www.aamu.edu/calendar/?eID=1681\n______________________________\nEvent Downloaded Powered by OU Calendar
LOCATION:LRC Room 309  - 4900 Meridian Street LRC Room 308\, Normal\, AL United States 35762
CATEGORIES:AAMU Calendar Events
PRIORITY:0
TRANSP:TRANSPARENT
END:VEVENT
END:VCALENDAR