BEGIN:VCALENDAR
VERSION:2.0
METHOD:PUBLISH
CALSCALE:GREGORIAN
PRODID:-//Helios Calendar//EN
X-FROM-URL:https://www.aamu.edu/calendar/index.php?eID=1697
X-WR-RELCALID:AAMU Calendar Admissions Open House 2020  20200229T090000
X-WR-TIMEZONE:Europe/London
X-WR-CALNAME:AAMU Calendar
BEGIN:VEVENT
URL;VALUE=URI:https://www.aamu.edu/calendar/index.php?eID=1697
DTSTART:20200229T090000
DTEND:20200229T150000
SUMMARY:Admissions Open House 2020 
DESCRIPTION:February 29\, 20209:00 AM - 3:00 PMT.M. Elmore GymOn Site AcceptanceCampus Tours & ScholarshipsMusic AuditionsFree Lunch ProvidedMarching Maroon & White BandGreek Show PresentationsREGISTRATIONIndividual... For complete event details please visit:  https://www.aamu.edu/calendar/?eID=1697\n______________________________\nEvent Downloaded Powered by OU Calendar
LOCATION:Elmore Gymnasium -  \, \, AL  
CATEGORIES:AAMU Calendar Events
PRIORITY:0
TRANSP:TRANSPARENT
END:VEVENT
END:VCALENDAR