BEGIN:VCALENDAR
VERSION:2.0
METHOD:PUBLISH
CALSCALE:GREGORIAN
PRODID:-//Helios Calendar//EN
X-FROM-URL:https://www.aamu.edu/calendar/index.php?eID=1708
X-WR-RELCALID:AAMU Calendar Build-A-Brand Workshop 20200130T110000
X-WR-TIMEZONE:Europe/London
X-WR-CALNAME:AAMU Calendar
BEGIN:VEVENT
URL;VALUE=URI:https://www.aamu.edu/calendar/index.php?eID=1708
DTSTART:20200130T110000
DTEND:20200130T140000
SUMMARY:Build-A-Brand Workshop
DESCRIPTION:This is a workshop presented by the Student Government Association Senators for the College of Engineering\, Technology\, and Physical Sciences\, where student leaders and business owners on campus will... For complete event details please visit:  https://www.aamu.edu/calendar/?eID=1708\n______________________________\nEvent Downloaded Powered by OU Calendar
LOCATION:Clyde Foster Multipurpose Room -  \, \, AL  
CATEGORIES:AAMU Calendar Events
PRIORITY:0
TRANSP:TRANSPARENT
END:VEVENT
END:VCALENDAR