BEGIN:VCALENDAR
VERSION:2.0
METHOD:PUBLISH
CALSCALE:GREGORIAN
PRODID:-//Helios Calendar//EN
X-FROM-URL:https://www.aamu.edu/calendar/index.php?eID=1709
X-WR-RELCALID:AAMU Calendar Black Men Care Event 20200206T170000
X-WR-TIMEZONE:Europe/London
X-WR-CALNAME:AAMU Calendar
BEGIN:VEVENT
URL;VALUE=URI:https://www.aamu.edu/calendar/index.php?eID=1709
DTSTART:20200206T170000
DTEND:20200206T200000
SUMMARY:Black Men Care Event
DESCRIPTION:An event catered to providing male students with relaxation\, games\, and a safespace to discuss and openly communicate. Hosted by the College of Engineering\, Technology\, and Physical Sciences Senator... For complete event details please visit:  https://www.aamu.edu/calendar/?eID=1709\n______________________________\nEvent Downloaded Powered by OU Calendar
LOCATION:Bond Hall (Engineering Building) -  \, \, AL  
CATEGORIES:AAMU Calendar Events
PRIORITY:0
TRANSP:TRANSPARENT
END:VEVENT
END:VCALENDAR