BEGIN:VCALENDAR
VERSION:2.0
METHOD:PUBLISH
CALSCALE:GREGORIAN
PRODID:-//Helios Calendar//EN
X-FROM-URL:https://www.aamu.edu/calendar/index.php?eID=1711
X-WR-RELCALID:AAMU Calendar 'It's Real:  College and Mental Health' Viewing Party and Discussion 20200129T110000
X-WR-TIMEZONE:Europe/London
X-WR-CALNAME:AAMU Calendar
BEGIN:VEVENT
URL;VALUE=URI:https://www.aamu.edu/calendar/index.php?eID=1711
DTSTART:20200129T110000
DTEND:20200129T140000
SUMMARY:'It's Real:  College and Mental Health' Viewing Party and Discussion
DESCRIPTION:Clyde Foster Auditorium\, January 29\, 2020 at 11:00a.m.-2:00p.m.\, Clyde Foster Auditorium.  Brought to you by John & Ella Byrd McCain Health and Counseling Service. Lunch will be provided.Viewing... For complete event details please visit:  https://www.aamu.edu/calendar/?eID=1711\n______________________________\nEvent Downloaded Powered by OU Calendar
LOCATION:Clyde Foster Multipurpose Room -  \, \, AL  
CATEGORIES:AAMU Calendar Events
PRIORITY:0
TRANSP:TRANSPARENT
END:VEVENT
END:VCALENDAR