BEGIN:VCALENDAR
VERSION:2.0
METHOD:PUBLISH
CALSCALE:GREGORIAN
PRODID:-//Helios Calendar//EN
X-FROM-URL:https://www.aamu.edu/calendar/index.php?eID=1732
X-WR-RELCALID:AAMU Calendar Deadline: Undergraduate/Graduate Applications for Graduation Due in Registrar's Office 20200911
X-WR-TIMEZONE:Europe/London
X-WR-CALNAME:AAMU Calendar
BEGIN:VEVENT
URL;VALUE=URI:https://www.aamu.edu/calendar/index.php?eID=1732
DTSTART;VALUE=DATE:20200911
DTEND;VALUE=DATE:20200912
SUMMARY:Deadline: Undergraduate/Graduate Applications for Graduation Due in Registrar's Office
DESCRIPTION:Deadline: Undergraduate/Graduate Applications for Graduation Due in Registrar's Office For complete event details please visit:  https://www.aamu.edu/calendar/?eID=1732\n______________________________\nEvent Downloaded Powered by OU Calendar
LOCATION:Patton Building -  \, \, AL  
CATEGORIES:AAMU Calendar Events
PRIORITY:0
TRANSP:TRANSPARENT
END:VEVENT
END:VCALENDAR