BEGIN:VCALENDAR
VERSION:2.0
METHOD:PUBLISH
CALSCALE:GREGORIAN
PRODID:-//Helios Calendar//EN
X-FROM-URL:https://www.aamu.edu/calendar/index.php?eID=1751
X-WR-RELCALID:AAMU Calendar Comp. Exam Results Due in Graduate Studies 20201102
X-WR-TIMEZONE:Europe/London
X-WR-CALNAME:AAMU Calendar
BEGIN:VEVENT
URL;VALUE=URI:https://www.aamu.edu/calendar/index.php?eID=1751
DTSTART;VALUE=DATE:20201102
DTEND;VALUE=DATE:20201103
SUMMARY:Comp. Exam Results Due in Graduate Studies
DESCRIPTION:Comp. Exam Results Due in Graduate Studies For complete event details please visit:  https://www.aamu.edu/calendar/?eID=1751\n______________________________\nEvent Downloaded Powered by OU Calendar
LOCATION:Patton Building -  \, \, AL  
CATEGORIES:AAMU Calendar Events
PRIORITY:0
TRANSP:TRANSPARENT
END:VEVENT
END:VCALENDAR