BEGIN:VCALENDAR
VERSION:2.0
METHOD:PUBLISH
CALSCALE:GREGORIAN
PRODID:-//Helios Calendar//EN
X-FROM-URL:https://www.aamu.edu/calendar/index.php?eID=1800
X-WR-RELCALID:AAMU Calendar Graduate/Undergraduate Applications for Graduation Due in Registrar's Office 20210205
X-WR-TIMEZONE:Europe/London
X-WR-CALNAME:AAMU Calendar
BEGIN:VEVENT
URL;VALUE=URI:https://www.aamu.edu/calendar/index.php?eID=1800
DTSTART;VALUE=DATE:20210205
DTEND;VALUE=DATE:20210206
SUMMARY:Graduate/Undergraduate Applications for Graduation Due in Registrar's Office
DESCRIPTION:Graduate/Undergraduate Applications for Graduation Due in Registrar's Office For complete event details please visit:  https://www.aamu.edu/calendar/?eID=1800\n______________________________\nEvent Downloaded Powered by OU Calendar
LOCATION:Patton Building -  \, \, AL  
CATEGORIES:AAMU Calendar Events
PRIORITY:0
TRANSP:TRANSPARENT
END:VEVENT
END:VCALENDAR