BEGIN:VCALENDAR
VERSION:2.0
METHOD:PUBLISH
CALSCALE:GREGORIAN
PRODID:-//Helios Calendar//EN
X-FROM-URL:https://www.aamu.edu/calendar/index.php?eID=1859
X-WR-RELCALID:AAMU Calendar Student Academic Application Party 20200218T160000
X-WR-TIMEZONE:Europe/London
X-WR-CALNAME:AAMU Calendar
BEGIN:VEVENT
URL;VALUE=URI:https://www.aamu.edu/calendar/index.php?eID=1859
DTSTART:20200218T160000
DTEND:20200218T200000
SUMMARY:Student Academic Application Party
DESCRIPTION:An event hosted by the CETPS SGA Senators and Senior Class SGA Senators dedicated to providing students with a safe\, productive space to apply for internships\, scholarships\, and other opportunities.... For complete event details please visit:  https://www.aamu.edu/calendar/?eID=1859\n______________________________\nEvent Downloaded Powered by OU Calendar
LOCATION:Bond Hall (Engineering Building) -  \, \, AL  
CATEGORIES:AAMU Calendar Events
PRIORITY:0
TRANSP:TRANSPARENT
END:VEVENT
END:VCALENDAR