BEGIN:VCALENDAR
VERSION:2.0
METHOD:PUBLISH
CALSCALE:GREGORIAN
PRODID:-//Helios Calendar//EN
X-FROM-URL:https://www.aamu.edu/calendar/index.php?eID=1861
X-WR-RELCALID:AAMU Calendar Research Writing Workshop 20200205T120000
X-WR-TIMEZONE:Europe/London
X-WR-CALNAME:AAMU Calendar
BEGIN:VEVENT
URL;VALUE=URI:https://www.aamu.edu/calendar/index.php?eID=1861
DTSTART:20200205T120000
DTEND:20200205T130000
SUMMARY:Research Writing Workshop
DESCRIPTION:In this workshop we will explain the research process\, how to cite and how to synthesize sources in a research paper. For complete event details please visit:  https://www.aamu.edu/calendar/?eID=1861\n______________________________\nEvent Downloaded Powered by OU Calendar
LOCATION:Carver Complex North Wing (CCN) -  \, \, AL  
CATEGORIES:AAMU Calendar Events
PRIORITY:0
TRANSP:TRANSPARENT
END:VEVENT
END:VCALENDAR