BEGIN:VCALENDAR
VERSION:2.0
METHOD:PUBLISH
CALSCALE:GREGORIAN
PRODID:-//Helios Calendar//EN
X-FROM-URL:https://www.aamu.edu/calendar/index.php?eID=1864
X-WR-RELCALID:AAMU Calendar Family Feud 20200220T170000
X-WR-TIMEZONE:Europe/London
X-WR-CALNAME:AAMU Calendar
BEGIN:VEVENT
URL;VALUE=URI:https://www.aamu.edu/calendar/index.php?eID=1864
DTSTART:20200220T170000
DTEND:20200220T190000
SUMMARY:Family Feud
DESCRIPTION:The event will be a family feud game night\, which will be Black History themed.  For complete event details please visit:  https://www.aamu.edu/calendar/?eID=1864\n______________________________\nEvent Downloaded Powered by OU Calendar
LOCATION:Bond Hall (Engineering Building) -  \, \, AL  
CATEGORIES:AAMU Calendar Events
PRIORITY:0
TRANSP:TRANSPARENT
END:VEVENT
END:VCALENDAR