BEGIN:VCALENDAR
VERSION:2.0
METHOD:PUBLISH
CALSCALE:GREGORIAN
PRODID:-//Helios Calendar//EN
X-FROM-URL:https://www.aamu.edu/calendar/index.php?eID=1878
X-WR-RELCALID:AAMU Calendar Faculty/Staff Conference 20210112
X-WR-TIMEZONE:Europe/London
X-WR-CALNAME:AAMU Calendar
BEGIN:VEVENT
URL;VALUE=URI:https://www.aamu.edu/calendar/index.php?eID=1878
DTSTART;VALUE=DATE:20210112
DTEND;VALUE=DATE:20210113
SUMMARY:Faculty/Staff Conference
DESCRIPTION:Faculty/Staff Conference For complete event details please visit:  https://www.aamu.edu/calendar/?eID=1878\n______________________________\nEvent Downloaded Powered by OU Calendar
LOCATION:Student Health and Wellness Center (SHWC) -  \, \, AL  
CATEGORIES:AAMU Calendar Events
PRIORITY:0
TRANSP:TRANSPARENT
END:VEVENT
END:VCALENDAR