BEGIN:VCALENDAR
VERSION:2.0
METHOD:PUBLISH
CALSCALE:GREGORIAN
PRODID:-//Helios Calendar//EN
X-FROM-URL:https://www.aamu.edu/calendar/index.php?eID=1889
X-WR-RELCALID:AAMU Calendar Committee Meetings of the Board of Trustees 20200220T083000
X-WR-TIMEZONE:Europe/London
X-WR-CALNAME:AAMU Calendar
BEGIN:VEVENT
URL;VALUE=URI:https://www.aamu.edu/calendar/index.php?eID=1889
DTSTART:20200220T083000
DTEND:20200220T083000
SUMMARY:Committee Meetings of the Board of Trustees
DESCRIPTION:Committees of the Board of Trustees of Alabama A&M University are scheduled to occur on February 20\, 2020\, on the Campus of the University in the Office of the President. For complete event details please visit:  https://www.aamu.edu/calendar/?eID=1889\n______________________________\nEvent Downloaded Powered by OU Calendar
LOCATION:Clyde Foster Multipurpose Room -  \, \, AL  
CATEGORIES:AAMU Calendar Events
PRIORITY:0
TRANSP:TRANSPARENT
END:VEVENT
END:VCALENDAR