BEGIN:VCALENDAR
VERSION:2.0
METHOD:PUBLISH
CALSCALE:GREGORIAN
PRODID:-//Helios Calendar//EN
X-FROM-URL:https://www.aamu.edu/calendar/index.php?eID=1897
X-WR-RELCALID:AAMU Calendar Dancing with the President and First Lady 20200228T190000
X-WR-TIMEZONE:Europe/London
X-WR-CALNAME:AAMU Calendar
BEGIN:VEVENT
URL;VALUE=URI:https://www.aamu.edu/calendar/index.php?eID=1897
DTSTART:20200228T190000
DTEND:20200228T190000
SUMMARY:Dancing with the President and First Lady
DESCRIPTION:"Dancing 2020" Takes on Disco Theme. The annual Dancing with the President and First Lady event at Alabama A&M University will be held on Friday\, February 28\, at 7:00 p.m. in the Knight Center. ... For complete event details please visit:  https://www.aamu.edu/calendar/?eID=1897\n______________________________\nEvent Downloaded Powered by OU Calendar
LOCATION:Ernest Knight Reception Center -  \, \, AL  
CATEGORIES:AAMU Calendar Events
PRIORITY:0
TRANSP:TRANSPARENT
END:VEVENT
END:VCALENDAR