BEGIN:VCALENDAR
VERSION:2.0
METHOD:PUBLISH
CALSCALE:GREGORIAN
PRODID:-//Helios Calendar//EN
X-FROM-URL:https://www.aamu.edu/calendar/index.php?eID=1907
X-WR-RELCALID:AAMU Calendar Spring Week 2020: Spring Break Safety Program  20200310T120000
X-WR-TIMEZONE:Europe/London
X-WR-CALNAME:AAMU Calendar
BEGIN:VEVENT
URL;VALUE=URI:https://www.aamu.edu/calendar/index.php?eID=1907
DTSTART:20200310T120000
DTEND:20200310T140000
SUMMARY:Spring Week 2020: Spring Break Safety Program 
DESCRIPTION:This event is hosted by the Department of Public Safety to share vital information about spring break safety.  For complete event details please visit:  https://www.aamu.edu/calendar/?eID=1907\n______________________________\nEvent Downloaded Powered by OU Calendar
LOCATION:Clyde Foster Multipurpose Room -  \, \, AL  
CATEGORIES:AAMU Calendar Events
PRIORITY:0
TRANSP:TRANSPARENT
END:VEVENT
END:VCALENDAR