BEGIN:VCALENDAR
VERSION:2.0
METHOD:PUBLISH
CALSCALE:GREGORIAN
PRODID:-//Helios Calendar//EN
X-FROM-URL:https://www.aamu.edu/calendar/index.php?eID=1930
X-WR-RELCALID:AAMU Calendar The Write Words! 20200311T120000
X-WR-TIMEZONE:Europe/London
X-WR-CALNAME:AAMU Calendar
BEGIN:VEVENT
URL;VALUE=URI:https://www.aamu.edu/calendar/index.php?eID=1930
DTSTART:20200311T120000
DTEND:20200311T130000
SUMMARY:The Write Words!
DESCRIPTION:Learn how to market yourself! In this workshop you'll learn how to tweak your resume and cover letter for maximum effect! We'll also discuss how to write personal statements. Don't miss it! For complete event details please visit:  https://www.aamu.edu/calendar/?eID=1930\n______________________________\nEvent Downloaded Powered by OU Calendar
LOCATION:Carver Complex North Wing (CCN) -  \, \, AL  
CATEGORIES:AAMU Calendar Events
PRIORITY:0
TRANSP:TRANSPARENT
END:VEVENT
END:VCALENDAR