BEGIN:VCALENDAR
VERSION:2.0
METHOD:PUBLISH
CALSCALE:GREGORIAN
PRODID:-//Helios Calendar//EN
X-FROM-URL:https://www.aamu.edu/calendar/index.php?eID=1931
X-WR-RELCALID:AAMU Calendar Writers Roundtable 20200317T123000
X-WR-TIMEZONE:Europe/London
X-WR-CALNAME:AAMU Calendar
BEGIN:VEVENT
URL;VALUE=URI:https://www.aamu.edu/calendar/index.php?eID=1931
DTSTART:20200317T123000
DTEND:20200317T133000
SUMMARY:Writers Roundtable
DESCRIPTION:Are you a writer or interested in writing? Then this is a workshop you do not want to miss! It's a chance for you to feature your work and get feedback from other writers. What you need... For complete event details please visit:  https://www.aamu.edu/calendar/?eID=1931\n______________________________\nEvent Downloaded Powered by OU Calendar
LOCATION:Carver Complex North Wing (CCN) -  \, \, AL  
CATEGORIES:AAMU Calendar Events
PRIORITY:0
TRANSP:TRANSPARENT
END:VEVENT
END:VCALENDAR