BEGIN:VCALENDAR
VERSION:2.0
METHOD:PUBLISH
CALSCALE:GREGORIAN
PRODID:-//Helios Calendar//EN
X-FROM-URL:https://www.aamu.edu/calendar/index.php?eID=1932
X-WR-RELCALID:AAMU Calendar Bus Tour Welcome Back Celebration 20200306T140000
X-WR-TIMEZONE:Europe/London
X-WR-CALNAME:AAMU Calendar
BEGIN:VEVENT
URL;VALUE=URI:https://www.aamu.edu/calendar/index.php?eID=1932
DTSTART:20200306T140000
DTEND:20200306T140000
SUMMARY:Bus Tour Welcome Back Celebration
DESCRIPTION:Friday\, March 6th\, 2:00 p.m. on The Quad (Rain: Clyde Foster Auditorium)Join the "Welcome Back Celebration" on The Quad. President and First Lady Andrew Hugine\, Jr.\, students\, alumni and... For complete event details please visit:  https://www.aamu.edu/calendar/?eID=1932\n______________________________\nEvent Downloaded Powered by OU Calendar
LOCATION:The Quad -  \, \, AL  
CATEGORIES:AAMU Calendar Events
PRIORITY:0
TRANSP:TRANSPARENT
END:VEVENT
END:VCALENDAR