BEGIN:VCALENDAR
VERSION:2.0
METHOD:PUBLISH
CALSCALE:GREGORIAN
PRODID:-//Helios Calendar//EN
X-FROM-URL:https://www.aamu.edu/calendar/index.php?eID=1953
X-WR-RELCALID:AAMU Calendar How to Avoid Plagiarism 20200408T120000
X-WR-TIMEZONE:Europe/London
X-WR-CALNAME:AAMU Calendar
BEGIN:VEVENT
URL;VALUE=URI:https://www.aamu.edu/calendar/index.php?eID=1953
DTSTART:20200408T120000
DTEND:20200408T130000
SUMMARY:How to Avoid Plagiarism
DESCRIPTION:In this workshop we'll help you save your grade! Learn how to write an effective research paper and avoid plagiarism.Join by Zoom:https://aamu.zoom.us/j/806618039Meeting ID: 806 618 039 For complete event details please visit:  https://www.aamu.edu/calendar/?eID=1953\n______________________________\nEvent Downloaded Powered by OU Calendar
LOCATION:Zoom Meeting - Zoom Meeting \, Huntsville\, AL  35810
CATEGORIES:AAMU Calendar Events
PRIORITY:0
TRANSP:TRANSPARENT
END:VEVENT
END:VCALENDAR