BEGIN:VCALENDAR
VERSION:2.0
METHOD:PUBLISH
CALSCALE:GREGORIAN
PRODID:-//Helios Calendar//EN
X-FROM-URL:https://www.aamu.edu/calendar/index.php?eID=1979
X-WR-RELCALID:AAMU Calendar How Writing Makes You Smart! 20200604T150000
X-WR-TIMEZONE:Europe/London
X-WR-CALNAME:AAMU Calendar
BEGIN:VEVENT
URL;VALUE=URI:https://www.aamu.edu/calendar/index.php?eID=1979
DTSTART:20200604T150000
DTEND:20200604T160000
SUMMARY:How Writing Makes You Smart!
DESCRIPTION:In this Zoom workshop we learn that writing is a habit of highly successful people! Writing helps to organize our thoughts which results in purposeful actions. Smart choices and smart actions make... For complete event details please visit:  https://www.aamu.edu/calendar/?eID=1979\n______________________________\nEvent Downloaded Powered by OU Calendar
LOCATION:Zoom Meeting - Zoom Meeting \, Huntsville\, AL  35810
CATEGORIES:AAMU Calendar Events
PRIORITY:0
TRANSP:TRANSPARENT
END:VEVENT
END:VCALENDAR