BEGIN:VCALENDAR
VERSION:2.0
METHOD:PUBLISH
CALSCALE:GREGORIAN
PRODID:-//Helios Calendar//EN
X-FROM-URL:https://www.aamu.edu/calendar/index.php?eID=1981
X-WR-RELCALID:AAMU Calendar How to Write a Lit Review 20200625T150000
X-WR-TIMEZONE:Europe/London
X-WR-CALNAME:AAMU Calendar
BEGIN:VEVENT
URL;VALUE=URI:https://www.aamu.edu/calendar/index.php?eID=1981
DTSTART:20200625T150000
DTEND:20200625T160000
SUMMARY:How to Write a Lit Review
DESCRIPTION:What is a lit review? Why is it important?  What do we mean by "lit"? Are we talking about works of art? These and other questions will be answered in this workshop to help you compose the strong... For complete event details please visit:  https://www.aamu.edu/calendar/?eID=1981\n______________________________\nEvent Downloaded Powered by OU Calendar
LOCATION:Zoom Meeting - Zoom Meeting \, Huntsville\, AL  35810
CATEGORIES:AAMU Calendar Events
PRIORITY:0
TRANSP:TRANSPARENT
END:VEVENT
END:VCALENDAR