BEGIN:VCALENDAR
VERSION:2.0
METHOD:PUBLISH
CALSCALE:GREGORIAN
PRODID:-//Helios Calendar//EN
X-FROM-URL:https://www.aamu.edu/calendar/index.php?eID=1983
X-WR-RELCALID:AAMU Calendar Spring/Summer 2020 Commencement 20200731T070000
X-WR-TIMEZONE:Europe/London
X-WR-CALNAME:AAMU Calendar
BEGIN:VEVENT
URL;VALUE=URI:https://www.aamu.edu/calendar/index.php?eID=1983
DTSTART:20200731T070000
DTEND:20200731T090000
SUMMARY:Spring/Summer 2020 Commencement
DESCRIPTION:Spring/Summer 2020 Commencement For complete event details please visit:  https://www.aamu.edu/calendar/?eID=1983\n______________________________\nEvent Downloaded Powered by OU Calendar
LOCATION:Louis Crews Stadium -  \, \, AL  
CATEGORIES:AAMU Calendar Events
PRIORITY:0
TRANSP:TRANSPARENT
END:VEVENT
END:VCALENDAR