BEGIN:VCALENDAR
VERSION:2.0
METHOD:PUBLISH
CALSCALE:GREGORIAN
PRODID:-//Helios Calendar//EN
X-FROM-URL:https://www.aamu.edu/calendar/index.php?eID=1984
X-WR-RELCALID:AAMU Calendar How to Write a Research Paper 20200709T120000
X-WR-TIMEZONE:Europe/London
X-WR-CALNAME:AAMU Calendar
BEGIN:VEVENT
URL;VALUE=URI:https://www.aamu.edu/calendar/index.php?eID=1984
DTSTART:20200709T120000
DTEND:20200709T130000
SUMMARY:How to Write a Research Paper
DESCRIPTION:In this workshop we'll talk about how to find and evaluate sources. Then\, once you find your sources\, how to integrate them effectively into your paper and document them to avoid plagiarism. Join... For complete event details please visit:  https://www.aamu.edu/calendar/?eID=1984\n______________________________\nEvent Downloaded Powered by OU Calendar
LOCATION:Zoom Meeting - Zoom Meeting \, Huntsville\, AL  35810
CATEGORIES:AAMU Calendar Events
PRIORITY:0
TRANSP:TRANSPARENT
END:VEVENT
END:VCALENDAR