BEGIN:VCALENDAR
VERSION:2.0
METHOD:PUBLISH
CALSCALE:GREGORIAN
PRODID:-//Helios Calendar//EN
X-FROM-URL:https://www.aamu.edu/calendar/index.php?eID=1986
X-WR-RELCALID:AAMU Calendar How to Sell Yourself! 20200723T120000
X-WR-TIMEZONE:Europe/London
X-WR-CALNAME:AAMU Calendar
BEGIN:VEVENT
URL;VALUE=URI:https://www.aamu.edu/calendar/index.php?eID=1986
DTSTART:20200723T120000
DTEND:20200723T130000
SUMMARY:How to Sell Yourself!
DESCRIPTION:In this workshop we'll discuss how to present yourself well on paper with a strong cover letter and resume. Put your best foot forward and get your dream job after graduation by selling the qualities... For complete event details please visit:  https://www.aamu.edu/calendar/?eID=1986\n______________________________\nEvent Downloaded Powered by OU Calendar
LOCATION:Zoom Meeting - Zoom Meeting \, Huntsville\, AL  35810
CATEGORIES:AAMU Calendar Events
PRIORITY:0
TRANSP:TRANSPARENT
END:VEVENT
END:VCALENDAR