BEGIN:VCALENDAR
VERSION:2.0
METHOD:PUBLISH
CALSCALE:GREGORIAN
PRODID:-//Helios Calendar//EN
X-FROM-URL:https://www.aamu.edu/calendar/index.php?eID=1987
X-WR-RELCALID:AAMU Calendar New Graduate Students Virtual Fall 2020 Orientation 20200811T160000
X-WR-TIMEZONE:Europe/London
X-WR-CALNAME:AAMU Calendar
BEGIN:VEVENT
URL;VALUE=URI:https://www.aamu.edu/calendar/index.php?eID=1987
DTSTART:20200811T160000
DTEND:20200811T170000
SUMMARY:New Graduate Students Virtual Fall 2020 Orientation
DESCRIPTION:The Graduate School is pleased to invite all new graduate students to the virtual Fall 2020 Graduate Orientation via ZoomTo have full access to Zoom's features\, new students are encouraged... For complete event details please visit:  https://www.aamu.edu/calendar/?eID=1987\n______________________________\nEvent Downloaded Powered by OU Calendar
LOCATION:Office of Graduate Studies - Virtual Zoom Meeting \, Normal\, AL  35762
CATEGORIES:AAMU Calendar Events
PRIORITY:0
TRANSP:TRANSPARENT
END:VEVENT
END:VCALENDAR