BEGIN:VCALENDAR
VERSION:2.0
METHOD:PUBLISH
CALSCALE:GREGORIAN
PRODID:-//Helios Calendar//EN
X-FROM-URL:https://www.aamu.edu/calendar/index.php?eID=1991
X-WR-RELCALID:AAMU Calendar NASA Space Apps Challenge  20201002T080000
X-WR-TIMEZONE:Europe/London
X-WR-CALNAME:AAMU Calendar
BEGIN:VEVENT
URL;VALUE=URI:https://www.aamu.edu/calendar/index.php?eID=1991
DTSTART:20201002T080000
DTEND:20201002T180000
SUMMARY:NASA Space Apps Challenge 
DESCRIPTION:Now in its 9th year\, NASA Space Apps is an international hackathon for coders\, scientists\, designers\, storytellers\, makers\, builders\, technologists\, entrepreneurs\, and others in cities around the... For complete event details please visit:  https://www.aamu.edu/calendar/?eID=1991\n______________________________\nEvent Downloaded Powered by OU Calendar
LOCATION:Virtual - NA NA\, NA\, AL NA NA
CATEGORIES:AAMU Calendar Events
PRIORITY:0
TRANSP:TRANSPARENT
END:VEVENT
END:VCALENDAR