BEGIN:VCALENDAR
VERSION:2.0
METHOD:PUBLISH
CALSCALE:GREGORIAN
PRODID:-//Helios Calendar//EN
X-FROM-URL:https://www.aamu.edu/calendar/index.php?eID=1992
X-WR-RELCALID:AAMU Calendar How to Beat Writers' Block 20200827T123000
X-WR-TIMEZONE:Europe/London
X-WR-CALNAME:AAMU Calendar
BEGIN:VEVENT
URL;VALUE=URI:https://www.aamu.edu/calendar/index.php?eID=1992
DTSTART:20200827T123000
DTEND:20200827T133000
SUMMARY:How to Beat Writers' Block
DESCRIPTION:Do you ever sit down to write and feel like you have nothing to say? This workshop will help you fight the battle that every writer faces--writers' block. You can overcome it! We'll show you how. For complete event details please visit:  https://www.aamu.edu/calendar/?eID=1992\n______________________________\nEvent Downloaded Powered by OU Calendar
LOCATION:Zoom Meeting - Zoom Meeting \, Huntsville\, AL  35810
CATEGORIES:AAMU Calendar Events
PRIORITY:0
TRANSP:TRANSPARENT
END:VEVENT
END:VCALENDAR