BEGIN:VCALENDAR
VERSION:2.0
METHOD:PUBLISH
CALSCALE:GREGORIAN
PRODID:-//Helios Calendar//EN
X-FROM-URL:https://www.aamu.edu/calendar/index.php?eID=1993
X-WR-RELCALID:AAMU Calendar Mastering the Art of Professional Communication 20200903T123000
X-WR-TIMEZONE:Europe/London
X-WR-CALNAME:AAMU Calendar
BEGIN:VEVENT
URL;VALUE=URI:https://www.aamu.edu/calendar/index.php?eID=1993
DTSTART:20200903T123000
DTEND:20200903T133000
SUMMARY:Mastering the Art of Professional Communication
DESCRIPTION:If you want to succeed in the world of business\, you may have to\, first\, perfect the art of crafting something as simple as an email. Professional communication is an often overlooked\, but desperately... For complete event details please visit:  https://www.aamu.edu/calendar/?eID=1993\n______________________________\nEvent Downloaded Powered by OU Calendar
LOCATION:Zoom Meeting - Zoom Meeting \, Huntsville\, AL  35810
CATEGORIES:AAMU Calendar Events
PRIORITY:0
TRANSP:TRANSPARENT
END:VEVENT
END:VCALENDAR