BEGIN:VCALENDAR
VERSION:2.0
METHOD:PUBLISH
CALSCALE:GREGORIAN
PRODID:-//Helios Calendar//EN
X-FROM-URL:https://www.aamu.edu/calendar/index.php?eID=1996
X-WR-RELCALID:AAMU Calendar Thanksgiving Break: Residential Life and Housing 20201120T170000
X-WR-TIMEZONE:Europe/London
X-WR-CALNAME:AAMU Calendar
BEGIN:VEVENT
URL;VALUE=URI:https://www.aamu.edu/calendar/index.php?eID=1996
DTSTART:20201120T170000
DTEND:20201120T170000
SUMMARY:Thanksgiving Break: Residential Life and Housing
DESCRIPTION:Residence Halls and the Apartment Community will close for the Thanksgiving break. All students living on campus will be required to leave for the break. All students will complete their coursework... For complete event details please visit:  https://www.aamu.edu/calendar/?eID=1996\n______________________________\nEvent Downloaded Powered by OU Calendar
LOCATION:4900 Meridian Street -  \, Huntsville\, AL United States 35811
CATEGORIES:AAMU Calendar Events
PRIORITY:0
TRANSP:TRANSPARENT
END:VEVENT
END:VCALENDAR