BEGIN:VCALENDAR
VERSION:2.0
METHOD:PUBLISH
CALSCALE:GREGORIAN
PRODID:-//Helios Calendar//EN
X-FROM-URL:https://www.aamu.edu/calendar/index.php?eID=1997
X-WR-RELCALID:AAMU Calendar Writer's Roundtable 20200917T003000
X-WR-TIMEZONE:Europe/London
X-WR-CALNAME:AAMU Calendar
BEGIN:VEVENT
URL;VALUE=URI:https://www.aamu.edu/calendar/index.php?eID=1997
DTSTART:20200917T003000
DTEND:20200917T133000
SUMMARY:Writer's Roundtable
DESCRIPTION:Are you a writer? Join us for the Writer's Roundtable\, a meeting of professors and students who enjoy writing! We'll share tips and tricks for improving your craft and give you a chance to share your... For complete event details please visit:  https://www.aamu.edu/calendar/?eID=1997\n______________________________\nEvent Downloaded Powered by OU Calendar
LOCATION:Zoom Meeting - Zoom Meeting \, Huntsville\, AL  35810
CATEGORIES:AAMU Calendar Events
PRIORITY:0
TRANSP:TRANSPARENT
END:VEVENT
END:VCALENDAR