BEGIN:VCALENDAR
VERSION:2.0
METHOD:PUBLISH
CALSCALE:GREGORIAN
PRODID:-//Helios Calendar//EN
X-FROM-URL:https://www.aamu.edu/calendar/index.php?eID=1999
X-WR-RELCALID:AAMU Calendar Deadline to 'Apply for Graduation' for December Graduates 20200918
X-WR-TIMEZONE:Europe/London
X-WR-CALNAME:AAMU Calendar
BEGIN:VEVENT
URL;VALUE=URI:https://www.aamu.edu/calendar/index.php?eID=1999
DTSTART;VALUE=DATE:20200918
DTEND;VALUE=DATE:20200919
SUMMARY:Deadline to 'Apply for Graduation' for December Graduates
DESCRIPTION:The Registrar's Office\, in conjunction with the Office of Graduate Studies\, has developed a new process to submit an application to graduate. Beginning Fall 2020\, students who anticipate the completion... For complete event details please visit:  https://www.aamu.edu/calendar/?eID=1999\n______________________________\nEvent Downloaded Powered by OU Calendar
LOCATION:Office of Graduate Studies -  \, \,   
CATEGORIES:AAMU Calendar Events
PRIORITY:0
TRANSP:TRANSPARENT
END:VEVENT
END:VCALENDAR