BEGIN:VCALENDAR
VERSION:2.0
METHOD:PUBLISH
CALSCALE:GREGORIAN
PRODID:-//Helios Calendar//EN
X-FROM-URL:https://www.aamu.edu/calendar/index.php?eID=2000
X-WR-RELCALID:AAMU Calendar How to be a Better Writer 20200924T123000
X-WR-TIMEZONE:Europe/London
X-WR-CALNAME:AAMU Calendar
BEGIN:VEVENT
URL;VALUE=URI:https://www.aamu.edu/calendar/index.php?eID=2000
DTSTART:20200924T123000
DTEND:20200924T133000
SUMMARY:How to be a Better Writer
DESCRIPTION:How does thinking critically improve writing? Find out in this workshop! We'll share techniques to improve your critical thinking and help sharpen your writing skills. For complete event details please visit:  https://www.aamu.edu/calendar/?eID=2000\n______________________________\nEvent Downloaded Powered by OU Calendar
LOCATION:Zoom Meeting - Zoom Meeting \, Huntsville\, AL  35810
CATEGORIES:AAMU Calendar Events
PRIORITY:0
TRANSP:TRANSPARENT
END:VEVENT
END:VCALENDAR