BEGIN:VCALENDAR
VERSION:2.0
METHOD:PUBLISH
CALSCALE:GREGORIAN
PRODID:-//Helios Calendar//EN
X-FROM-URL:https://www.aamu.edu/calendar/index.php?eID=2002
X-WR-RELCALID:AAMU Calendar Deadline for first submission of Committee-approved Thesis/Dissertation due in Graduate Studies 20201005T080000
X-WR-TIMEZONE:Europe/London
X-WR-CALNAME:AAMU Calendar
BEGIN:VEVENT
URL;VALUE=URI:https://www.aamu.edu/calendar/index.php?eID=2002
DTSTART:20201005T080000
DTEND:20201005T080000
SUMMARY:Deadline for first submission of Committee-approved Thesis/Dissertation due in Graduate Studies
DESCRIPTION:AAMU GRAD SCHOOL Deadline for first submission of Committee-approved Thesis/Dissertation document and form due to thesisdissertation@aamu.edu*Theses and dissertations must be reviewed and... For complete event details please visit:  https://www.aamu.edu/calendar/?eID=2002\n______________________________\nEvent Downloaded Powered by OU Calendar
LOCATION:Office of Graduate Studies -  \, \,   
CATEGORIES:AAMU Calendar Events
PRIORITY:0
TRANSP:TRANSPARENT
END:VEVENT
END:VCALENDAR