BEGIN:VCALENDAR
VERSION:2.0
METHOD:PUBLISH
CALSCALE:GREGORIAN
PRODID:-//Helios Calendar//EN
X-FROM-URL:https://www.aamu.edu/calendar/index.php?eID=2003
X-WR-RELCALID:AAMU Calendar Deadline for first submission of Action Research documents due 20201007T080000
X-WR-TIMEZONE:Europe/London
X-WR-CALNAME:AAMU Calendar
BEGIN:VEVENT
URL;VALUE=URI:https://www.aamu.edu/calendar/index.php?eID=2003
DTSTART:20201007T080000
DTEND:20201007T080000
SUMMARY:Deadline for first submission of Action Research documents due
DESCRIPTION:AAMU Grad SchoolDeadline for first submission of Action Research documents tothesisdissertation@aamu.edu  For complete event details please visit:  https://www.aamu.edu/calendar/?eID=2003\n______________________________\nEvent Downloaded Powered by OU Calendar
LOCATION:Office of Graduate Studies -  \, Normal\, AL  35762
CATEGORIES:AAMU Calendar Events
PRIORITY:0
TRANSP:TRANSPARENT
END:VEVENT
END:VCALENDAR