BEGIN:VCALENDAR
VERSION:2.0
METHOD:PUBLISH
CALSCALE:GREGORIAN
PRODID:-//Helios Calendar//EN
X-FROM-URL:https://www.aamu.edu/calendar/index.php?eID=2008
X-WR-RELCALID:AAMU Calendar Deadline for Final Committee-Approved Action Research Document, Thesis and/or Dissertation due 20201106T080000
X-WR-TIMEZONE:Europe/London
X-WR-CALNAME:AAMU Calendar
BEGIN:VEVENT
URL;VALUE=URI:https://www.aamu.edu/calendar/index.php?eID=2008
DTSTART:20201106T080000
DTEND:20201106T080000
SUMMARY:Deadline for Final Committee-Approved Action Research Document\, Thesis and/or Dissertation due
DESCRIPTION:Deadline: electronic submission of final committee-approvedAction Research document\, thesis and/or dissertation due tothesisdissertation@aamu.edu for final review by AAMU Reviewer For complete event details please visit:  https://www.aamu.edu/calendar/?eID=2008\n______________________________\nEvent Downloaded Powered by OU Calendar
LOCATION:Office of Graduate Studies -  \, Normal\, AL  35762
CATEGORIES:AAMU Calendar Events
PRIORITY:0
TRANSP:TRANSPARENT
END:VEVENT
END:VCALENDAR