BEGIN:VCALENDAR
VERSION:2.0
METHOD:PUBLISH
CALSCALE:GREGORIAN
PRODID:-//Helios Calendar//EN
X-FROM-URL:https://www.aamu.edu/calendar/index.php?eID=2009
X-WR-RELCALID:AAMU Calendar Deadline to remove all incomplete grades for Theses/Dissertations, Master’s Reports 20201106T080000
X-WR-TIMEZONE:Europe/London
X-WR-CALNAME:AAMU Calendar
BEGIN:VEVENT
URL;VALUE=URI:https://www.aamu.edu/calendar/index.php?eID=2009
DTSTART:20201106T080000
DTEND:20201106T080000
SUMMARY:Deadline to remove all incomplete grades for Theses/Dissertations\, Master’s Reports
DESCRIPTION:Deadline to remove all incomplete grades for Theses/Dissertations\,Master’s Reports (No Exceptions will be granted!) For complete event details please visit:  https://www.aamu.edu/calendar/?eID=2009\n______________________________\nEvent Downloaded Powered by OU Calendar
LOCATION:Office of Graduate Studies -  \, Normal\, AL  35762
CATEGORIES:AAMU Calendar Events
PRIORITY:0
TRANSP:TRANSPARENT
END:VEVENT
END:VCALENDAR