BEGIN:VCALENDAR
VERSION:2.0
METHOD:PUBLISH
CALSCALE:GREGORIAN
PRODID:-//Helios Calendar//EN
X-FROM-URL:https://www.aamu.edu/calendar/index.php?eID=2010
X-WR-RELCALID:AAMU Calendar Last day for oral examinations of Thesis/Dissertation 20201110T080000
X-WR-TIMEZONE:Europe/London
X-WR-CALNAME:AAMU Calendar
BEGIN:VEVENT
URL;VALUE=URI:https://www.aamu.edu/calendar/index.php?eID=2010
DTSTART:20201110T080000
DTEND:20201110T080000
SUMMARY:Last day for oral examinations of Thesis/Dissertation
DESCRIPTION:Last day for oral examinations of Thesis/Dissertation For complete event details please visit:  https://www.aamu.edu/calendar/?eID=2010\n______________________________\nEvent Downloaded Powered by OU Calendar
LOCATION:Office of Graduate Studies -  \, Normal\, AL  35762
CATEGORIES:AAMU Calendar Events
PRIORITY:0
TRANSP:TRANSPARENT
END:VEVENT
END:VCALENDAR