BEGIN:VCALENDAR
VERSION:2.0
METHOD:PUBLISH
CALSCALE:GREGORIAN
PRODID:-//Helios Calendar//EN
X-FROM-URL:https://www.aamu.edu/calendar/index.php?eID=2011
X-WR-RELCALID:AAMU Calendar How to Organize Your Essay 20201015T140000
X-WR-TIMEZONE:Europe/London
X-WR-CALNAME:AAMU Calendar
BEGIN:VEVENT
URL;VALUE=URI:https://www.aamu.edu/calendar/index.php?eID=2011
DTSTART:20201015T140000
DTEND:20201015T150000
SUMMARY:How to Organize Your Essay
DESCRIPTION:Is your essay all over the place? Let us help you get organized! In this workshop we'll cover how to clarify your thesis\, organize your paragraphs\, make smooth transitions and effectively wrap things... For complete event details please visit:  https://www.aamu.edu/calendar/?eID=2011\n______________________________\nEvent Downloaded Powered by OU Calendar
LOCATION:Zoom Meeting - Zoom Meeting \, Huntsville\, AL  35810
CATEGORIES:AAMU Calendar Events
PRIORITY:0
TRANSP:TRANSPARENT
END:VEVENT
END:VCALENDAR