BEGIN:VCALENDAR
VERSION:2.0
METHOD:PUBLISH
CALSCALE:GREGORIAN
PRODID:-//Helios Calendar//EN
X-FROM-URL:https://www.aamu.edu/calendar/index.php?eID=2014
X-WR-RELCALID:AAMU Calendar National Transfer Student Week:  Transfer Student Swap Meet 20201022T123000
X-WR-TIMEZONE:Europe/London
X-WR-CALNAME:AAMU Calendar
BEGIN:VEVENT
URL;VALUE=URI:https://www.aamu.edu/calendar/index.php?eID=2014
DTSTART:20201022T123000
DTEND:20201022T140000
SUMMARY:National Transfer Student Week:  Transfer Student Swap Meet
DESCRIPTION:Transfer students bring swag from their previous college(s) to the CCRGI office to swap for AAMU gear.Ralph Lee Student Center For complete event details please visit:  https://www.aamu.edu/calendar/?eID=2014\n______________________________\nEvent Downloaded Powered by OU Calendar
LOCATION:Ralph Lee Student Center -  \, \, AL  
CATEGORIES:AAMU Calendar Events
PRIORITY:0
TRANSP:TRANSPARENT
END:VEVENT
END:VCALENDAR