BEGIN:VCALENDAR
VERSION:2.0
METHOD:PUBLISH
CALSCALE:GREGORIAN
PRODID:-//Helios Calendar//EN
X-FROM-URL:https://www.aamu.edu/calendar/index.php?eID=2015
X-WR-RELCALID:AAMU Calendar National Transfer Student Week:  Transfer Student Social Media Takeover  20201020T080000
X-WR-TIMEZONE:Europe/London
X-WR-CALNAME:AAMU Calendar
BEGIN:VEVENT
URL;VALUE=URI:https://www.aamu.edu/calendar/index.php?eID=2015
DTSTART:20201020T080000
DTEND:20201020T235900
SUMMARY:National Transfer Student Week:  Transfer Student Social Media Takeover 
DESCRIPTION:The AAMU campus community is encouraged to post positive messages\, testimonials\, videos\, motivational quotes\, and etc to show support for AAMU transfer students. Using the hashtag #TransferStudentWeek... For complete event details please visit:  https://www.aamu.edu/calendar/?eID=2015\n______________________________\nEvent Downloaded Powered by OU Calendar
LOCATION:Ralph Lee Student Center -  \, \, AL  
CATEGORIES:AAMU Calendar Events
PRIORITY:0
TRANSP:TRANSPARENT
END:VEVENT
END:VCALENDAR