BEGIN:VCALENDAR
VERSION:2.0
METHOD:PUBLISH
CALSCALE:GREGORIAN
PRODID:-//Helios Calendar//EN
X-FROM-URL:https://www.aamu.edu/calendar/index.php?eID=2019
X-WR-RELCALID:AAMU Calendar Writer's Roundtable 20201029T123000
X-WR-TIMEZONE:Europe/London
X-WR-CALNAME:AAMU Calendar
BEGIN:VEVENT
URL;VALUE=URI:https://www.aamu.edu/calendar/index.php?eID=2019
DTSTART:20201029T123000
DTEND:20201029T133000
SUMMARY:Writer's Roundtable
DESCRIPTION:Are you a writer or interested in writing? Then come to the table!  All are welcome!This is a FREE workshop for AAMU faculty\, staff\, students and alumniThis month's topic is fictionEmail... For complete event details please visit:  https://www.aamu.edu/calendar/?eID=2019\n______________________________\nEvent Downloaded Powered by OU Calendar
LOCATION:Zoom Meeting - Zoom Meeting \, Huntsville\, AL  35810
CATEGORIES:AAMU Calendar Events
PRIORITY:0
TRANSP:TRANSPARENT
END:VEVENT
END:VCALENDAR