BEGIN:VCALENDAR
VERSION:2.0
METHOD:PUBLISH
CALSCALE:GREGORIAN
PRODID:-//Helios Calendar//EN
X-FROM-URL:https://www.aamu.edu/calendar/index.php?eID=2023
X-WR-RELCALID:AAMU Calendar New and Returning Students: Residential Life and Housing 20210117T080000
X-WR-TIMEZONE:Europe/London
X-WR-CALNAME:AAMU Calendar
BEGIN:VEVENT
URL;VALUE=URI:https://www.aamu.edu/calendar/index.php?eID=2023
DTSTART:20210117T080000
DTEND:20210117T153000
SUMMARY:New and Returning Students: Residential Life and Housing
DESCRIPTION:New and Returning students will check-in starting January 16th -18th from 8 a.m. to 3:30 p.m. No after-hours check-in will be permitted.(New requirement) All students will be required to have a... For complete event details please visit:  https://www.aamu.edu/calendar/?eID=2023\n______________________________\nEvent Downloaded Powered by OU Calendar
LOCATION:Residential Life and Housing - 4900 Meridian Street \, Normal\, AL United States 35762
CATEGORIES:AAMU Calendar Events
PRIORITY:0
TRANSP:TRANSPARENT
END:VEVENT
END:VCALENDAR