BEGIN:VCALENDAR
VERSION:2.0
METHOD:PUBLISH
CALSCALE:GREGORIAN
PRODID:-//Helios Calendar//EN
X-FROM-URL:https://www.aamu.edu/calendar/index.php?eID=2036
X-WR-RELCALID:AAMU Calendar Back-2-Basics: Online Gardening Series 20210127T220000
X-WR-TIMEZONE:Europe/London
X-WR-CALNAME:AAMU Calendar
BEGIN:VEVENT
URL;VALUE=URI:https://www.aamu.edu/calendar/index.php?eID=2036
DTSTART:20210127T220000
DTEND:20210128T110000
SUMMARY:Back-2-Basics: Online Gardening Series
DESCRIPTION:Join Alabama Extension as its Home Grounds Team discusses limited space gardening in urban areas. For more information\, visit https://www.facebook.com/events/376935406816125. Or register at www.aces.edu/go/B2BZoom.... For complete event details please visit:  https://www.aamu.edu/calendar/?eID=2036\n______________________________\nEvent Downloaded Powered by OU Calendar
LOCATION:Zoom Meeting - Zoom Meeting \, Huntsville\, AL  35810
CATEGORIES:AAMU Calendar Events
PRIORITY:0
TRANSP:TRANSPARENT
END:VEVENT
END:VCALENDAR