BEGIN:VCALENDAR
VERSION:2.0
METHOD:PUBLISH
CALSCALE:GREGORIAN
PRODID:-//Helios Calendar//EN
X-FROM-URL:https://www.aamu.edu/calendar/index.php?eID=2037
X-WR-RELCALID:AAMU Calendar Webinar: Small Business Planning 101 20210210T173000
X-WR-TIMEZONE:Europe/London
X-WR-CALNAME:AAMU Calendar
BEGIN:VEVENT
URL;VALUE=URI:https://www.aamu.edu/calendar/index.php?eID=2037
DTSTART:20210210T173000
DTEND:20210210T190000
SUMMARY:Webinar: Small Business Planning 101
DESCRIPTION:Webinar Topic: The Business Model Canvas for BeginnersAre you a small business owner struggling to organize all your ideas? No matter your industry or stage of business\, we invite you to join... For complete event details please visit:  https://www.aamu.edu/calendar/?eID=2037\n______________________________\nEvent Downloaded Powered by OU Calendar
LOCATION:Zoom Meeting - Zoom Meeting \, Huntsville\, AL  35810
CATEGORIES:AAMU Calendar Events
PRIORITY:0
TRANSP:TRANSPARENT
END:VEVENT
END:VCALENDAR