BEGIN:VCALENDAR
VERSION:2.0
METHOD:PUBLISH
CALSCALE:GREGORIAN
PRODID:-//Helios Calendar//EN
X-FROM-URL:https://www.aamu.edu/calendar/index.php?eID=2038
X-WR-RELCALID:AAMU Calendar Webinar: Caring for Goats and Sheep in Winter 20210126T173000
X-WR-TIMEZONE:Europe/London
X-WR-CALNAME:AAMU Calendar
BEGIN:VEVENT
URL;VALUE=URI:https://www.aamu.edu/calendar/index.php?eID=2038
DTSTART:20210126T173000
DTEND:20210126T183000
SUMMARY:Webinar: Caring for Goats and Sheep in Winter
DESCRIPTION:Are you a goat or sheep producer who wants to keep your farm productive all year? Or are you an animal sciences student who wants to learn more about small ruminants? Join Alabama Extension's Animal... For complete event details please visit:  https://www.aamu.edu/calendar/?eID=2038\n______________________________\nEvent Downloaded Powered by OU Calendar
LOCATION:Zoom Meeting - Zoom Meeting \, Huntsville\, AL  35810
CATEGORIES:AAMU Calendar Events
PRIORITY:0
TRANSP:TRANSPARENT
END:VEVENT
END:VCALENDAR