BEGIN:VCALENDAR
VERSION:2.0
METHOD:PUBLISH
CALSCALE:GREGORIAN
PRODID:-//Helios Calendar//EN
X-FROM-URL:https://www.aamu.edu/calendar/index.php?eID=2039
X-WR-RELCALID:AAMU Calendar Healthcare Conference: Successful Aging Initiative Webinar 20210128T100000
X-WR-TIMEZONE:Europe/London
X-WR-CALNAME:AAMU Calendar
BEGIN:VEVENT
URL;VALUE=URI:https://www.aamu.edu/calendar/index.php?eID=2039
DTSTART:20210128T100000
DTEND:20210128T130000
SUMMARY:Healthcare Conference: Successful Aging Initiative Webinar
DESCRIPTION:Financial health literacy has become an increasingly important aspect of healthcare. Knowing how to achieve better financial health literacy helps you understand and manage healthcare expenses and... For complete event details please visit:  https://www.aamu.edu/calendar/?eID=2039\n______________________________\nEvent Downloaded Powered by OU Calendar
LOCATION:Zoom Meeting - Zoom Meeting \, Huntsville\, AL  35810
CATEGORIES:AAMU Calendar Events
PRIORITY:0
TRANSP:TRANSPARENT
END:VEVENT
END:VCALENDAR