BEGIN:VCALENDAR
VERSION:2.0
METHOD:PUBLISH
CALSCALE:GREGORIAN
PRODID:-//Helios Calendar//EN
X-FROM-URL:https://www.aamu.edu/calendar/index.php?eID=2042
X-WR-RELCALID:AAMU Calendar Consumer Protection Webinar - Successful Aging Initiative 20210204T110000
X-WR-TIMEZONE:Europe/London
X-WR-CALNAME:AAMU Calendar
BEGIN:VEVENT
URL;VALUE=URI:https://www.aamu.edu/calendar/index.php?eID=2042
DTSTART:20210204T110000
DTEND:20210204T130000
SUMMARY:Consumer Protection Webinar - Successful Aging Initiative
DESCRIPTION:As the number of older adults scammed or abused increases\, many questions arise about preventing exploitation and abuse of older adults. Now is the time to make sure you can identify the various tactics... For complete event details please visit:  https://www.aamu.edu/calendar/?eID=2042\n______________________________\nEvent Downloaded Powered by OU Calendar
LOCATION:Zoom Meeting - Zoom Meeting \, Huntsville\, AL  35810
CATEGORIES:AAMU Calendar Events
PRIORITY:0
TRANSP:TRANSPARENT
END:VEVENT
END:VCALENDAR