BEGIN:VCALENDAR
VERSION:2.0
METHOD:PUBLISH
CALSCALE:GREGORIAN
PRODID:-//Helios Calendar//EN
X-FROM-URL:https://www.aamu.edu/calendar/index.php?eID=2043
X-WR-RELCALID:AAMU Calendar Money Management - Online Conference 20210218T110000
X-WR-TIMEZONE:Europe/London
X-WR-CALNAME:AAMU Calendar
BEGIN:VEVENT
URL;VALUE=URI:https://www.aamu.edu/calendar/index.php?eID=2043
DTSTART:20210218T110000
DTEND:20210218T130000
SUMMARY:Money Management - Online Conference
DESCRIPTION:Living on a fixed income\, especially during retirement\, can be challenging. Believe it or not\, it is possible to live on a fixed income and still enjoy some of the things you used to enjoy when you... For complete event details please visit:  https://www.aamu.edu/calendar/?eID=2043\n______________________________\nEvent Downloaded Powered by OU Calendar
LOCATION:Zoom Meeting - Zoom Meeting \, Huntsville\, AL  35810
CATEGORIES:AAMU Calendar Events
PRIORITY:0
TRANSP:TRANSPARENT
END:VEVENT
END:VCALENDAR