BEGIN:VCALENDAR
VERSION:2.0
METHOD:PUBLISH
CALSCALE:GREGORIAN
PRODID:-//Helios Calendar//EN
X-FROM-URL:https://www.aamu.edu/calendar/index.php?eID=2047
X-WR-RELCALID:AAMU Calendar Learn to Grow Asian Eggplant Webinar 20210226T120000
X-WR-TIMEZONE:Europe/London
X-WR-CALNAME:AAMU Calendar
BEGIN:VEVENT
URL;VALUE=URI:https://www.aamu.edu/calendar/index.php?eID=2047
DTSTART:20210226T120000
DTEND:20210226T130000
SUMMARY:Learn to Grow Asian Eggplant Webinar
DESCRIPTION:Solanaceae\, the nightshade family\, contains a wide range of plants with known agricultural\, medicinal\, and culinary uses. This family contains popular vegetables such as tomato\, pepper\, tomatillo\,... For complete event details please visit:  https://www.aamu.edu/calendar/?eID=2047\n______________________________\nEvent Downloaded Powered by OU Calendar
LOCATION:Zoom Meeting - Zoom Meeting \, Huntsville\, AL  35810
CATEGORIES:AAMU Calendar Events
PRIORITY:0
TRANSP:TRANSPARENT
END:VEVENT
END:VCALENDAR