BEGIN:VCALENDAR
VERSION:2.0
METHOD:PUBLISH
CALSCALE:GREGORIAN
PRODID:-//Helios Calendar//EN
X-FROM-URL:https://www.aamu.edu/calendar/index.php?eID=2048
X-WR-RELCALID:AAMU Calendar COVID-19 A Way Forward  20210205T123000
X-WR-TIMEZONE:Europe/London
X-WR-CALNAME:AAMU Calendar
BEGIN:VEVENT
URL;VALUE=URI:https://www.aamu.edu/calendar/index.php?eID=2048
DTSTART:20210205T123000
DTEND:20210205T133000
SUMMARY:COVID-19 A Way Forward 
DESCRIPTION:Please join us Friday\, February 5\, 2021 at 12:30pm for a panel discussion on the COVID-19 pandemic and vaccine. Our panelist includes: Dr. Latesha Elopre\, Assistant Professor\, Division... For complete event details please visit:  https://www.aamu.edu/calendar/?eID=2048\n______________________________\nEvent Downloaded Powered by OU Calendar
LOCATION:Zoom Meeting - Zoom Meeting \, Huntsville\, AL  35810
CATEGORIES:AAMU Calendar Events
PRIORITY:0
TRANSP:TRANSPARENT
END:VEVENT
END:VCALENDAR